BEGIN:VCALENDAR
VERSION:2.0
PRODID:-//Tri-County Health Network - ECPv6.15.20//NONSGML v1.0//EN
CALSCALE:GREGORIAN
METHOD:PUBLISH
X-ORIGINAL-URL:https://www.tchnetwork.org
X-WR-CALDESC:Events for Tri-County Health Network
REFRESH-INTERVAL;VALUE=DURATION:PT1H
X-Robots-Tag:noindex
X-PUBLISHED-TTL:PT1H
BEGIN:VTIMEZONE
TZID:America/Denver
BEGIN:DAYLIGHT
TZOFFSETFROM:-0700
TZOFFSETTO:-0600
TZNAME:MDT
DTSTART:20240310T090000
END:DAYLIGHT
BEGIN:STANDARD
TZOFFSETFROM:-0600
TZOFFSETTO:-0700
TZNAME:MST
DTSTART:20241103T080000
END:STANDARD
BEGIN:DAYLIGHT
TZOFFSETFROM:-0700
TZOFFSETTO:-0600
TZNAME:MDT
DTSTART:20250309T090000
END:DAYLIGHT
BEGIN:STANDARD
TZOFFSETFROM:-0600
TZOFFSETTO:-0700
TZNAME:MST
DTSTART:20251102T080000
END:STANDARD
BEGIN:DAYLIGHT
TZOFFSETFROM:-0700
TZOFFSETTO:-0600
TZNAME:MDT
DTSTART:20260308T090000
END:DAYLIGHT
BEGIN:STANDARD
TZOFFSETFROM:-0600
TZOFFSETTO:-0700
TZNAME:MST
DTSTART:20261101T080000
END:STANDARD
END:VTIMEZONE
BEGIN:VEVENT
DTSTART;TZID=America/Denver:20250613T090000
DTEND;TZID=America/Denver:20250613T170000
DTSTAMP:20260421T042028
CREATED:20250516T161540Z
LAST-MODIFIED:20250516T163319Z
UID:67794-1749805200-1749834000@www.tchnetwork.org
SUMMARY:Mental Health First Aid in Delta
DESCRIPTION:
URL:https://www.tchnetwork.org/event/mhfa-delta/
LOCATION:Axis Health\, 107 W. 11th St.\, Delta\, 81416\, United States
END:VEVENT
BEGIN:VEVENT
DTSTART;TZID=America/Denver:20250621T100000
DTEND;TZID=America/Denver:20250621T160000
DTSTAMP:20260421T042028
CREATED:20250422T192344Z
LAST-MODIFIED:20250513T212615Z
UID:67469-1750500000-1750521600@www.tchnetwork.org
SUMMARY:Rock the Block 2025
DESCRIPTION:Join us for the 3rd annual Rock the Block! Kick off summer with us at a good ol’ fashion block party right on Main and Uncompaghre. This year we will be expanding and taking another block! Free admission. Food Trucks\, Music\, Vendors\, nonprofit fair\, kids zone and activities all day long! It is going to be a blast!
URL:https://www.tchnetwork.org/event/rock-the-block-2025/
LOCATION:E Main St\, Montrose\, CO 81401\, United States\, E Main St\, Montrose\, CO 81401\, United States
END:VEVENT
BEGIN:VEVENT
DTSTART;TZID=America/Denver:20250625T090000
DTEND;TZID=America/Denver:20250625T170000
DTSTAMP:20260421T042028
CREATED:20250513T205004Z
LAST-MODIFIED:20250513T234403Z
UID:67744-1750842000-1750870800@www.tchnetwork.org
SUMMARY:Older Adults Mental Health First Aid
DESCRIPTION:
URL:https://www.tchnetwork.org/event/older-adults-mhfa-june25/
LOCATION:MADA\, 17 N. 6th St.\, Montrose\, CO\, 81401\, United States
END:VEVENT
BEGIN:VEVENT
DTSTART;TZID=America/Denver:20250626T090000
DTEND;TZID=America/Denver:20250626T170000
DTSTAMP:20260421T042028
CREATED:20250513T211817Z
LAST-MODIFIED:20250513T232619Z
UID:67750-1750928400-1750957200@www.tchnetwork.org
SUMMARY:Older Adults Mental Health First Aid - Norwood
DESCRIPTION:
URL:https://www.tchnetwork.org/event/older-adults-mhfa-june26/
LOCATION:Lone Cone Library\, 1455 Pinion St.\, Norwood\, CO\, 81432\, United States
END:VEVENT
END:VCALENDAR