BEGIN:VCALENDAR
VERSION:2.0
PRODID:-//Tri-County Health Network - ECPv6.15.20//NONSGML v1.0//EN
CALSCALE:GREGORIAN
METHOD:PUBLISH
X-WR-CALNAME:Tri-County Health Network
X-ORIGINAL-URL:https://www.tchnetwork.org
X-WR-CALDESC:Events for Tri-County Health Network
REFRESH-INTERVAL;VALUE=DURATION:PT1H
X-Robots-Tag:noindex
X-PUBLISHED-TTL:PT1H
BEGIN:VTIMEZONE
TZID:America/Denver
BEGIN:DAYLIGHT
TZOFFSETFROM:-0700
TZOFFSETTO:-0600
TZNAME:MDT
DTSTART:20240310T090000
END:DAYLIGHT
BEGIN:STANDARD
TZOFFSETFROM:-0600
TZOFFSETTO:-0700
TZNAME:MST
DTSTART:20241103T080000
END:STANDARD
BEGIN:DAYLIGHT
TZOFFSETFROM:-0700
TZOFFSETTO:-0600
TZNAME:MDT
DTSTART:20250309T090000
END:DAYLIGHT
BEGIN:STANDARD
TZOFFSETFROM:-0600
TZOFFSETTO:-0700
TZNAME:MST
DTSTART:20251102T080000
END:STANDARD
BEGIN:DAYLIGHT
TZOFFSETFROM:-0700
TZOFFSETTO:-0600
TZNAME:MDT
DTSTART:20260308T090000
END:DAYLIGHT
BEGIN:STANDARD
TZOFFSETFROM:-0600
TZOFFSETTO:-0700
TZNAME:MST
DTSTART:20261101T080000
END:STANDARD
END:VTIMEZONE
BEGIN:VEVENT
DTSTART;TZID=America/Denver:20250508T173000
DTEND;TZID=America/Denver:20250508T203000
DTSTAMP:20260421T070900
CREATED:20250422T192344Z
LAST-MODIFIED:20250425T153447Z
UID:67467-1746725400-1746736200@www.tchnetwork.org
SUMMARY:Breaking Bread and Boundaries
DESCRIPTION:Join us at the Delta County Library for shared meals and discussion focused on transforming outdates systems and envisioning better alternatives. This event is about Education.
URL:https://www.tchnetwork.org/event/breaking-bread-and-boundaries/
LOCATION:Delta Public Library Community Room\, 124 E 6th St\,\, Delta\, Colorado\, 81416
END:VEVENT
END:VCALENDAR